BEGIN:VCALENDAR
VERSION:2.0
PRODID:-//eventon.com NONSGML v1.0//EN
CALSCALE:GREGORIAN
METHOD:PUBLISH
BEGIN:VEVENT
UID:69e7fae618408
DTSTAMP:20260421T223206Z
DTSTART:20250531T160000Z
DTEND:20250531T215900Z
LOCATION:Holzkirche Chemnitz Ahornstraße 47\,  09112 Chemnitz
SUMMARY:Samstag - Konzertabend - Blindenchor
DESCRIPTION:Wohnzimmerkonzert Nr. 2 &nbsp; Diesmal treibt es uns ins sächs
 ische Chemnitz. Hier wollen wir am 31.05.2025 in einer Holzkirche die zweit
 e Ausgabe unserer Konzertreihe starten. Liste der Künstler: Fanny &amp; An
 ja D.J. Maulwurf &amp; Marius Zuther Zuzia &amp; Grzegorz  Dowgiałło Mu
 sikalisch am Start sind neben unseren beiden Dauerabonnentinnen auf die Poo
 lposition[..]\nhttps://holzkirchechemnitz.de/events/konzertabend-31/
URL:https://holzkirchechemnitz.de/events/konzertabend-31/
END:VEVENT
END:VCALENDAR