BEGIN:VCALENDAR
VERSION:2.0
PRODID:-//eventon.com NONSGML v1.0//EN
CALSCALE:GREGORIAN
METHOD:PUBLISH
BEGIN:VEVENT
UID:69e82b8fa1247
DTSTAMP:20260422T015943Z
DTSTART:20260514T170000Z
DTEND:20260514T215900Z
LOCATION:Holzkirche Chemnitz Ahornstraße 47\,  09112 Chemnitz
SUMMARY:Donnerstag - Liedertour im Mai
DESCRIPTION:Einlass: 19:00 Uhr Beginn: 20:00 Uhr __________________________
 ________ Môrre (mit &#8222;o&#8220; gesprochen) singt am Klavier wundersch
 öne lebensbejahende Lieder über Liebe\,  Zusammensein\,  das Leben Verste
 hen und hangelt sich dabei an den tiefgehenden Themen aus &#8222;Der kleine
  Prinz&#8220; von Antoine de Saint-Exupéry entlang. Dieses Jahr hatte er s
 ein großes Debut in Berlin und[..]\nhttps://holzkirchechemnitz.de/events/d
 onnerstag-liedertour-im-mai/
URL:https://holzkirchechemnitz.de/events/donnerstag-liedertour-im-mai/
END:VEVENT
END:VCALENDAR